BEGIN:VCALENDAR
VERSION:2.0
PRODID:-//ChamberMaster//Event Calendar 2.0//EN
METHOD:PUBLISH
X-PUBLISHED-TTL:P3D
REFRESH-INTERVAL:P3D
CALSCALE:GREGORIAN
BEGIN:VEVENT
DTSTART:20180610T203000Z
DTEND:20180610T223000Z
X-MICROSOFT-CDO-ALLDAYEVENT:FALSE
SUMMARY:Family Sports & Fun Day
DESCRIPTION:Say hello to Summer by exploring different sports enjoyed in India - Kho kho\, Badminton\, Ludo\, Chess \, Kabaddi \, Seven stones(pittu) \, Carrom and many more! Free Balloon Art for kids
X-ALT-DESC;FMTTYPE=text/html:<span style="color: rgb(29\, 33\, 41)\; font-family: Helvetica\, Arial\, sans-serif\; font-size: 14px\;">Say hello to Summer by exploring different sports enjoyed in India - Kho kho\, Badminton\, Ludo\, Chess \, Kabaddi \, Seven stones(pittu) \, Carrom and many more! Free Balloon Art for kids &#127880\;</span>
LOCATION:Blakely Hall At Issaquah Highlands 2550 NE Park Dr\, Issaquah\, WA
UID:e.684.5402
SEQUENCE:3
DTSTAMP:20260423T233747Z
URL:https://business.issaquahchamber.com/events/details/family-sports-fun-day-5402
END:VEVENT

END:VCALENDAR
