BEGIN:VCALENDAR
VERSION:2.0
PRODID:-//ChamberMaster//Event Calendar 2.0//EN
METHOD:PUBLISH
X-PUBLISHED-TTL:P3D
REFRESH-INTERVAL:P3D
CALSCALE:GREGORIAN
BEGIN:VEVENT
DTSTART:20160214T000000Z
DTEND:20160214T050000Z
X-MICROSOFT-CDO-ALLDAYEVENT:FALSE
SUMMARY:Father-Daughter Valentine Dance
DESCRIPTION:Fathers and daughters are invited to participate in this annual dance. This year there will be two separate dances - one for each age category. Fathers with daughters in both age categories can choose either timeframe.\n\n\n\nAttire is casual or formal. Refreshments and professional photo packages will be available. \n\n\n\nFathers can bring more than one daughter at no additional cost.
X-ALT-DESC;FMTTYPE=text/html:Fathers and daughters are invited to participate in this annual dance. This year there will be two separate dances - one for each age category. Fathers with daughters in both age categories can choose either timeframe.<br />\n<br />\nAttire is casual or formal. Refreshments and professional photo packages will be available.&nbsp\;<br />\n<br />\nFathers can bring more than one daughter at no additional cost.&nbsp\;
LOCATION:Issaquah Community Center 301 Rainier Blvd S Issaquah\, WA 98027
UID:e.684.1765
SEQUENCE:3
DTSTAMP:20260425T125414Z
URL:https://business.issaquahchamber.com/events/details/father-daughter-valentine-dance-02-13-2016-1765
END:VEVENT

END:VCALENDAR
