BEGIN:VCALENDAR
VERSION:2.0
PRODID:-//ChamberMaster//Event Calendar 2.0//EN
METHOD:PUBLISH
X-PUBLISHED-TTL:P3D
REFRESH-INTERVAL:P3D
CALSCALE:GREGORIAN
BEGIN:VEVENT
DTSTART:20170212T000000Z
DTEND:20170212T050000Z
X-MICROSOFT-CDO-ALLDAYEVENT:FALSE
SUMMARY:Father-Daughter Valentine Dance
DESCRIPTION:Father-Daughter Valentine Dance\n\n\nSaturday\, February 11\nYou're invited to our 17th annual Father-Daughter Valentine Dance!\n\n\n\nCome dressed casual or formal   just come ready to dance and enjoy a memorable evening. The accompanying adult is welcome to bring more than one daughter for no extra cost. If you have daughters in both age groups\, choose either timeframe.\n\n\n\nLight refreshments and professional photo packages will be available.
X-ALT-DESC;FMTTYPE=text/html:<h2 id="ctl00_HeaderPlaceholder_ctl11_ctl03_eventTitle">Father-Daughter Valentine Dance</h2>\n\n<div class="detailDateDesc">\n<h3 id="ctl00_HeaderPlaceholder_ctl11_ctl03_eventDate">Saturday\, February 11</h3>\nYou&#39\;re invited to our 17th annual Father-Daughter Valentine Dance!<br />\n<br />\nCome dressed casual or formal &mdash\; just come ready to dance and enjoy a memorable evening. The accompanying adult is welcome to bring more than one daughter for no extra cost. If you have daughters in both age groups\, choose either timeframe.<br />\n<br />\nLight refreshments and professional photo packages will be available.</div>\n
LOCATION:Issaquah Community Center
UID:e.684.3493
SEQUENCE:3
DTSTAMP:20260424T193922Z
URL:https://business.issaquahchamber.com/events/details/father-daughter-valentine-dance-3493
END:VEVENT

END:VCALENDAR
