BEGIN:VCALENDAR
VERSION:2.0
PRODID:-//ChamberMaster//Event Calendar 2.0//EN
METHOD:PUBLISH
X-PUBLISHED-TTL:P3D
REFRESH-INTERVAL:P3D
CALSCALE:GREGORIAN
BEGIN:VEVENT
DTSTART:20170618T150000Z
DTEND:20170618T220000Z
X-MICROSOFT-CDO-ALLDAYEVENT:FALSE
SUMMARY:Fenders on Front St
DESCRIPTION:This FREE show begins at 8:00 and runs until 3:00.  Vehicles will be parked along Front Street from Sunset to the Triple XXX parking lot.  It will be a fun filled Father's Day event with participants coming from across the state to show their classic cars.  Thousands of visitors stroll down Front Street to admire hundreds of vintage and classic cars. There will be live music\, family activities\, a trophy and award ceremony
X-ALT-DESC;FMTTYPE=text/html:This FREE show begins at 8:00 and runs until 3:00.&nbsp\; Vehicles will be parked along Front Street from Sunset to the Triple XXX parking lot.&nbsp\; It will be a fun filled Father&rsquo\;s Day event with participants coming from across the state to show their classic cars.&nbsp\; Thousands of visitors stroll down Front Street to admire hundreds of vintage and classic cars. There will be live music\, family activities\, a trophy and award ceremony
LOCATION:Front Street Issaquah\, WA 98027
UID:e.684.3540
SEQUENCE:3
DTSTAMP:20260424T155304Z
URL:https://business.issaquahchamber.com/events/details/fenders-on-front-st-3540
END:VEVENT

END:VCALENDAR
