BEGIN:VCALENDAR
VERSION:2.0
PRODID:-//ChamberMaster//Event Calendar 2.0//EN
METHOD:PUBLISH
X-PUBLISHED-TTL:P3D
REFRESH-INTERVAL:P3D
CALSCALE:GREGORIAN
BEGIN:VEVENT
DTSTART;VALUE=DATE:20170906
DTEND;VALUE=DATE:20170907
TRANSP:TRANSPARENT
X-MICROSOFT-CDO-ALLDAYEVENT:TRUE
SUMMARY:First Day of School
DESCRIPTION:First Day of School (1st-12th Grade)
X-ALT-DESC;FMTTYPE=text/html:<span style="margin: 0px\; color: black\; font-family: &quot\;Arial&quot\;\,sans-serif\; font-size: 10.5pt\;">First Day of School (1st-12th Grade)</span>
LOCATION:Issaquah School District schools (excluding Kindergarden)
UID:e.684.3819
SEQUENCE:3
DTSTAMP:20260424T104813Z
URL:https://business.issaquahchamber.com/events/details/first-day-of-school-3819
END:VEVENT

END:VCALENDAR
