BEGIN:VCALENDAR
VERSION:2.0
PRODID:-//ChamberMaster//Event Calendar 2.0//EN
METHOD:PUBLISH
X-PUBLISHED-TTL:P3D
REFRESH-INTERVAL:P3D
CALSCALE:GREGORIAN
BEGIN:VEVENT
DTSTART;VALUE=DATE:20170911
DTEND;VALUE=DATE:20170912
TRANSP:TRANSPARENT
X-MICROSOFT-CDO-ALLDAYEVENT:TRUE
SUMMARY:First Day of School - Kindergarden
DESCRIPTION:First Day of School (Kindergarten)
X-ALT-DESC;FMTTYPE=text/html:<span style="margin: 0px\; color: black\; font-family: &quot\;Arial&quot\;\,sans-serif\; font-size: 10.5pt\;">First Day of School (Kindergarten)</span>
LOCATION:
UID:e.684.3820
SEQUENCE:3
DTSTAMP:20260424T105207Z
URL:https://business.issaquahchamber.com/events/details/first-day-of-school-kindergarden-3820
END:VEVENT

END:VCALENDAR
