BEGIN:VCALENDAR
VERSION:2.0
PRODID:-//ChamberMaster//Event Calendar 2.0//EN
METHOD:PUBLISH
X-PUBLISHED-TTL:P3D
REFRESH-INTERVAL:P3D
CALSCALE:GREGORIAN
BEGIN:VEVENT
DTSTART;VALUE=DATE:20151207
DTEND;VALUE=DATE:20151208
TRANSP:TRANSPARENT
X-MICROSOFT-CDO-ALLDAYEVENT:TRUE
SUMMARY:Fluorescent Light Recycling Drop-Off
DESCRIPTION:Recology CleanScapes is participating in LightRecycle's recycling event. Now through December 31\, 2015. Individuals and businesses can recycle lights at no charge by dropping them off at more than 220 LightRecycle collection sites\, Recology CleanScapes being one of them.
X-ALT-DESC;FMTTYPE=text/html:Recology CleanScapes&nbsp\;is participating in LightRecycle&#39\;s&nbsp\;recycling event. Now through December 31\, 2015. Individuals and businesses can recycle lights at no charge by dropping them off at more than 220 LightRecycle&nbsp\;collection sites\, Recology CleanScapes being one of them.
LOCATION:Recology CleanScapes 317 NW Gilman Blvd Issaquah\, WA 98027
UID:e.684.1432
SEQUENCE:3
DTSTAMP:20260425T141421Z
URL:https://business.issaquahchamber.com/events/details/fluorescent-light-recycling-drop-off-12-07-2015-1432
END:VEVENT

END:VCALENDAR
