BEGIN:VCALENDAR
VERSION:2.0
PRODID:-//ChamberMaster//Event Calendar 2.0//EN
METHOD:PUBLISH
X-PUBLISHED-TTL:P3D
REFRESH-INTERVAL:P3D
CALSCALE:GREGORIAN
BEGIN:VEVENT
DTSTART:20151121T190000Z
DTEND:20151121T210000Z
X-MICROSOFT-CDO-ALLDAYEVENT:FALSE
SUMMARY:Foot and Ankle Center Open House
DESCRIPTION:Come check out the Foot and Ankle Center! Win an iPad & Custom Mold Orthotics just for stopping by!
X-ALT-DESC;FMTTYPE=text/html:Come check out the Foot and Ankle Center! Win an iPad &amp\; Custom Mold Orthotics just for stopping by!
LOCATION:22510 SE 64th Pl Suite 120 Issaquah\, WA 98027
UID:e.684.1406
SEQUENCE:3
DTSTAMP:20260425T153613Z
URL:https://business.issaquahchamber.com/events/details/foot-and-ankle-center-open-house-11-21-2015-1406
END:VEVENT

END:VCALENDAR
