BEGIN:VCALENDAR
VERSION:2.0
PRODID:-//ChamberMaster//Event Calendar 2.0//EN
METHOD:PUBLISH
X-PUBLISHED-TTL:P3D
REFRESH-INTERVAL:P3D
CALSCALE:GREGORIAN
BEGIN:VEVENT
DTSTART:20160304T030000Z
DTEND:20160304T043000Z
X-MICROSOFT-CDO-ALLDAYEVENT:FALSE
SUMMARY:Free gardening class
DESCRIPTION:Designing Your Own Northwest Paradise\n\n\n\nLandscapes and gardens offer a wealth of benefits if designed and managed well. Learn how to look at your garden as an ecosystem and explore the possibilities to make your space more sustainable. How to build healthy soils\, good design\, as well as proper maintenance strategies will be covered and you will see examples of beautiful gardens for inspiration.
X-ALT-DESC;FMTTYPE=text/html:<br />\n<strong>Designing Your Own Northwest Paradise</strong><br />\n<br />\n<span style="font-size:10px\;"><span style="font-size:12px\;"><span style="color: rgb(0\, 0\, 0)\; font-family: 'Archivo Narrow'\, sans-serif\; line-height: 22px\;">Landscapes and gardens offer a wealth of benefits if designed and managed well. Learn how to look at your garden as an ecosystem and explore the possibilities to make your space more sustainable. How to build healthy soils\, good design\, as well as proper maintenance strategies will be covered and you will see examples of beautiful gardens for inspiration.</span></span></span>
LOCATION:Blakely Hall\, 2550 NE Park Drive\, Issaquah
UID:e.684.1916
SEQUENCE:3
DTSTAMP:20260425T112944Z
URL:https://business.issaquahchamber.com/events/details/free-gardening-class-03-03-2016-1916
END:VEVENT

END:VCALENDAR
