BEGIN:VCALENDAR
VERSION:2.0
PRODID:-//ChamberMaster//Event Calendar 2.0//EN
METHOD:PUBLISH
X-PUBLISHED-TTL:P3D
REFRESH-INTERVAL:P3D
CALSCALE:GREGORIAN
BEGIN:VEVENT
DTSTART:20170315T190000Z
DTEND:20170315T200000Z
X-MICROSOFT-CDO-ALLDAYEVENT:FALSE
SUMMARY:Friends of Youth Annual Luncheon
DESCRIPTION:
X-ALT-DESC;FMTTYPE=text/html:
LOCATION:Hyatt Hotel 900 Bellevue Way NE Bellevue\,WA 98004
UID:e.684.3130
SEQUENCE:3
DTSTAMP:20260424T183011Z
URL:https://business.issaquahchamber.com/events/details/friends-of-youth-annual-luncheon-3130
END:VEVENT

END:VCALENDAR
