BEGIN:VCALENDAR
VERSION:2.0
PRODID:-//ChamberMaster//Event Calendar 2.0//EN
METHOD:PUBLISH
X-PUBLISHED-TTL:P3D
REFRESH-INTERVAL:P3D
CALSCALE:GREGORIAN
BEGIN:VEVENT
DTSTART:20160211T213000Z
DTEND:20160212T010000Z
X-MICROSOFT-CDO-ALLDAYEVENT:FALSE
SUMMARY:Green Genius
DESCRIPTION:A Community UnConference in Issaquah Highlands\n\nFor Real Estate Brokers\, Appraisers and Built Green Enthusiasts\, followed by a community happy hour\n\nAs the Issaquah Highlands looks back on 20 years of development\, Highlands Council\, Built Green\, Green Genius\, and others have joined forces to deliver an event series celebrating 20 years of sustainability in this Built Green community! \n\nThoughtfully curated for real estate and development professionals and enthusiasts\, all events are FREE and OPEN TO THE PUBLIC.\n\nSchedule of Events include:\n\n\n	1:30 p.m. to 4:30 p.m.: CEU Accredited Class for Real Estate Brokers and Appraisers ($20 if taking class for credit)\n	4:30 p.m. to 5 p.m.: Happy Hour Class for attendees and the community\n\n\nFollowing this program is one geared more towards the public\, though it will be quite valuable or real estate professionals: A Panel Discussion   The Past and Future of Sustainability in Issaquah Highlands from 5:30   6:30 p.m.\n\nAll homes in Issaquah Highlands are Built Green.  Homeowners can pick up their Built Green home certifications at this event.
X-ALT-DESC;FMTTYPE=text/html:<p style="box-sizing: border-box\; vertical-align: baseline\; font-family: 'Open Sans'\; font-size: 16px\; outline: 0px\; padding: 0px 0px 27px\; margin: 0px 0px 10px\; border: 0px\; line-height: 1.7\; color: rgb(103\, 103\, 103)\;"><span style="font-family:arial\;"><strong style="box-sizing: border-box\; vertical-align: baseline\; font-style: inherit\; outline: 0px\; padding: 0px\; margin: 0px\; border: 0px\;">A Community UnConference in Issaquah Highlands</strong><br />\nFor Real Estate Brokers\, Appraisers and Built Green Enthusiasts\, followed by a community happy hour</span></p>\n\n<p style="box-sizing: border-box\; vertical-align: baseline\; font-family: 'Open Sans'\; font-size: 16px\; outline: 0px\; padding: 0px 0px 27px\; margin: 0px 0px 10px\; border: 0px\; line-height: 1.7\; color: rgb(103\, 103\, 103)\;"><span style="font-family:arial\;">As the Issaquah Highlands looks back on 20 years of development\,&nbsp\;<em style="box-sizing: border-box\; vertical-align: baseline\; font-family: inherit\; font-weight: inherit\; outline: 0px\; padding: 0px\; margin: 0px\; border: 0px\;">Highlands Council</em>\,&nbsp\;<em style="box-sizing: border-box\; vertical-align: baseline\; font-family: inherit\; font-weight: inherit\; outline: 0px\; padding: 0px\; margin: 0px\; border: 0px\;">Built Green</em>\,&nbsp\;<em style="box-sizing: border-box\; vertical-align: baseline\; font-family: inherit\; font-weight: inherit\; outline: 0px\; padding: 0px\; margin: 0px\; border: 0px\;">Green Genius</em>\, and others have joined forces to deliver an event series celebrating 20 years of sustainability in this Built Green community!&nbsp\;</span></p>\n\n<p style="box-sizing: border-box\; vertical-align: baseline\; font-family: 'Open Sans'\; font-size: 16px\; outline: 0px\; padding: 0px 0px 27px\; margin: 0px 0px 10px\; border: 0px\; line-height: 1.7\; color: rgb(103\, 103\, 103)\;"><span style="font-family:arial\;"><strong style="box-sizing: border-box\; vertical-align: baseline\; font-style: inherit\; outline: 0px\; padding: 0px\; margin: 0px\; border: 0px\;">Thoughtfully curated for real estate and development professionals and enthusiasts\, all events are FREE and OPEN TO THE PUBLIC.</strong></span></p>\n\n<p style="box-sizing: border-box\; vertical-align: baseline\; font-family: 'Open Sans'\; font-size: 16px\; outline: 0px\; padding: 0px 0px 27px\; margin: 0px 0px 10px\; border: 0px\; line-height: 1.7\; color: rgb(103\, 103\, 103)\;"><span style="font-family:arial\;">Schedule of Events include:</span></p>\n\n<ul style="box-sizing: border-box\; vertical-align: baseline\; font-family: 'Open Sans'\; font-size: 16px\; outline: 0px\; padding-right: 0px\; padding-left: 0px\; margin: 0px\; border: 0px\; color: rgb(103\, 103\, 103)\; line-height: 28.7999992370605px\;">\n	<li style="box-sizing: border-box\; vertical-align: baseline\; font-family: inherit\; font-weight: inherit\; font-style: inherit\; outline: 0px\; padding: 0px\; margin: 0px 0px 20px\; border: 0px\; line-height: 1.7\;"><span style="font-family:arial\;">1:30&nbsp\;p.m.&nbsp\;to&nbsp\;4:30 p.m.: CEU Accredited Class for Real Estate Brokers and Appraisers ($20 if taking class for credit)</span></li>\n	<li style="box-sizing: border-box\; vertical-align: baseline\; font-family: inherit\; font-weight: inherit\; font-style: inherit\; outline: 0px\; padding: 0px\; margin: 0px 0px 20px\; border: 0px\; line-height: 1.7\;"><span style="font-family:arial\;">4:30 p.m.&nbsp\;to&nbsp\;5 p.m.: Happy Hour Class for attendees and the community</span></li>\n</ul>\n\n<p style="box-sizing: border-box\; vertical-align: baseline\; font-family: 'Open Sans'\; font-size: 16px\; outline: 0px\; padding: 0px 0px 27px\; margin: 0px 0px 10px\; border: 0px\; line-height: 1.7\; color: rgb(103\, 103\, 103)\;"><span style="font-family:arial\;">Following this program is one geared more towards the public\, though it will be quite valuable or real estate professionals:&nbsp\;<a href="http://www.issaquahhighlands.com/event/green-genius-the-future-of-sustainability-panel-discussion/" style="box-sizing: border-box\; vertical-align: baseline\; font-family: OpenSans\, Arial\, sans-serif\; font-weight: inherit\; font-style: inherit\; outline: 0px\; padding: 0px\; margin: 0px\; border: 0px\; color: rgb(39\, 204\, 192)\; text-decoration: none\; transition: color 0.2s linear\; -webkit-transition: color 0.2s linear\; -webkit-font-smoothing: antialiased\;" target="_blank">A&nbsp\;Panel Discussion &ndash\; The Past and Future of Sustainability in Issaquah Highlands from 5:30 &ndash\; 6:30&nbsp\;p.m.</a></span></p>\n\n<p style="box-sizing: border-box\; vertical-align: baseline\; font-family: 'Open Sans'\; font-size: 16px\; outline: 0px\; padding: 0px 0px 27px\; margin: 0px 0px 10px\; border: 0px\; line-height: 1.7\; color: rgb(103\, 103\, 103)\;"><span style="font-family:arial\;">All homes in Issaquah Highlands are Built Green.&nbsp\; Homeowners can pick up their Built Green home certifications at this event.</span></p>\n
LOCATION:
UID:e.684.1760
SEQUENCE:3
DTSTAMP:20260425T112521Z
URL:https://business.issaquahchamber.com/events/details/green-genius-02-11-2016-1760
END:VEVENT

END:VCALENDAR
