BEGIN:VCALENDAR
VERSION:2.0
PRODID:-//ChamberMaster//Event Calendar 2.0//EN
METHOD:PUBLISH
X-PUBLISHED-TTL:P3D
REFRESH-INTERVAL:P3D
CALSCALE:GREGORIAN
BEGIN:VEVENT
DTSTART;VALUE=DATE:20151126
DTEND;VALUE=DATE:20151127
TRANSP:TRANSPARENT
X-MICROSOFT-CDO-ALLDAYEVENT:TRUE
SUMMARY:Happy Thanksgiving!
DESCRIPTION:Wishing everyone a Happy Thanksgiving! \n\n\n\nThe Chamber office will be closed November 26 & 27
X-ALT-DESC;FMTTYPE=text/html:Wishing everyone a Happy Thanksgiving!&nbsp\;<br />\n<br />\nThe Chamber office will be closed November 26 &amp\; 27<br />\n<br />\n&nbsp\;
LOCATION:
UID:e.684.1385
SEQUENCE:3
DTSTAMP:20260425T153330Z
URL:https://business.issaquahchamber.com/events/details/happy-thanksgiving-11-26-2015-1385
END:VEVENT

END:VCALENDAR
