BEGIN:VCALENDAR
VERSION:2.0
PRODID:-//ChamberMaster//Event Calendar 2.0//EN
METHOD:PUBLISH
X-PUBLISHED-TTL:P3D
REFRESH-INTERVAL:P3D
CALSCALE:GREGORIAN
BEGIN:VEVENT
DTSTART:20160319T010000Z
DTEND:20160319T030000Z
X-MICROSOFT-CDO-ALLDAYEVENT:FALSE
SUMMARY:Harry Potter Night
DESCRIPTION:Harry Potter Night\, for ages 10-13\, allows participants to experience a mystical\, magical and mysterious evening as a student of Hogwarts! Enjoy butterbeer\, trivia challenges\, games and competitions. The event is hosted by the Issaquah Youth Advisory Board.
X-ALT-DESC;FMTTYPE=text/html:<span style="color:#000000\;"><span style="font-family: Verdana\; font-size: 13.3333320617676px\; line-height: 18.6666641235352px\;">Harry Potter Night\, for ages 10-13\, allows participants to experience a mystical\, magical and mysterious evening as a student of Hogwarts! Enjoy butterbeer\, trivia challenges\, games and competitions. The event is hosted by the Issaquah Youth Advisory Board.</span></span>
LOCATION:Issaquah Community Center\, 301 Rainier Blvd S
UID:e.684.1924
SEQUENCE:3
DTSTAMP:20260425T112645Z
URL:https://business.issaquahchamber.com/events/details/harry-potter-night-03-18-2016-1924
END:VEVENT

END:VCALENDAR
