BEGIN:VCALENDAR
VERSION:2.0
PRODID:-//ChamberMaster//Event Calendar 2.0//EN
METHOD:PUBLISH
X-PUBLISHED-TTL:P3D
REFRESH-INTERVAL:P3D
CALSCALE:GREGORIAN
BEGIN:VEVENT
DTSTART:20151120T160000Z
DTEND:20151120T170000Z
X-MICROSOFT-CDO-ALLDAYEVENT:FALSE
SUMMARY:Health Care Reform's Effect on Business Seminar
DESCRIPTION:Nov 20th\, 8:00 AM   9:00 AM\n\nGibson Hall\, 105 Newport Way SW\; Issaquah\, WA 98027\n\n\n\nAs employers face growing challenges trying to balance employees' well being with containing benefits-related company costs\, many are seeking guidance on how to manage the administrative and compliance requirements of the Affordable Care Act (ACA).  The enactment of the ACA in 2010 kicked off an extended period of sweeping changes to the American healthcare system. While many have already gone into effect\, there are many more still to come. Is your workplace prepared?\n\n\n\nOn November 20th from 8:00 AM -9:00 AM at Gibson Hall\, come learn from Brad Dillon Executive Vice President/Partner of eBenefits Consulting Group\, as he presents the compliance requirements that all business that have an employee benefits plan in place must follow.  \n\n\n\nBrad heads up the ACA and ERISA Compliance Group at eBenefits Consulting Group and has been working with multiple companies in 2015 assisting them in meeting the compliance requirements of the ACA and ERISA laws.
X-ALT-DESC;FMTTYPE=text/html:<strong><span style="color:black\;"><span style="font-family:calibri\,sans-serif\;">Nov 20<sup>th</sup>\, 8:00 AM &ndash\; 9:00 AM<br />\nGibson Hall\, 105 Newport Way SW\; Issaquah\, WA 98027</span></span></strong><br />\n<br />\n<span style="font-family:calibri\,sans-serif\;">As employers face growing challenges trying to balance employees&rsquo\; well being with containing benefits-related company costs\, many are seeking guidance on how to manage the administrative and compliance requirements of the Affordable Care Act (ACA).&nbsp\;&nbsp\;The enactment of the ACA in 2010 kicked off an extended period of sweeping changes to the American healthcare system. While many have already gone into effect\, there are many more still to come. Is your workplace prepared?</span><br />\n<br />\n<span style="font-family:calibri\,sans-serif\;">On November 20<sup>th</sup>&nbsp\;from&nbsp\;8:00 AM -9:00 AM&nbsp\;at Gibson Hall\, come learn from Brad Dillon Executive Vice President/Partner of eBenefits Consulting Group\, as he presents the&nbsp\;compliance requirements that all business that have an employee benefits plan in place must follow.&nbsp\; </span><br />\n<br />\n<span style="font-family:calibri\,sans-serif\;">Brad heads up the ACA and ERISA Compliance Group at eBenefits Consulting Group and has been working with multiple companies in 2015 assisting them in meeting the compliance requirements of the ACA and ERISA laws. &nbsp\;&nbsp\;</span>
LOCATION:Gibson Hall\, 105 Newport Way SW\; Issaquah\, WA 98027
UID:e.684.1412
SEQUENCE:3
DTSTAMP:20260425T154004Z
URL:https://business.issaquahchamber.com/events/details/health-care-reform-s-effect-on-business-seminar-11-20-2015-1412
END:VEVENT

END:VCALENDAR
