BEGIN:VCALENDAR
VERSION:2.0
PRODID:-//ChamberMaster//Event Calendar 2.0//EN
METHOD:PUBLISH
X-PUBLISHED-TTL:P3D
REFRESH-INTERVAL:P3D
CALSCALE:GREGORIAN
BEGIN:VEVENT
DTSTART:20170921T220000Z
DTEND:20170922T010000Z
X-MICROSOFT-CDO-ALLDAYEVENT:FALSE
SUMMARY:HERO House Open House
DESCRIPTION:Come to visit Hero House's Open House to see their new location.\n\nLight snacks will be provided
X-ALT-DESC;FMTTYPE=text/html:<span class="_4n-j _fbReactionComponent__eventDetailsContentTags fsl" data-testid="event-permalink-details">Come to visit Hero House&#39\;s Open House to see their new location.<br />\nLight snacks will be provided</span>
LOCATION:12838 SE 40th Place Bellevue WA 98006
UID:e.684.3828
SEQUENCE:3
DTSTAMP:20260424T115434Z
URL:https://business.issaquahchamber.com/events/details/hero-house-open-house-3828
END:VEVENT

END:VCALENDAR
