BEGIN:VCALENDAR
VERSION:2.0
PRODID:-//ChamberMaster//Event Calendar 2.0//EN
METHOD:PUBLISH
X-PUBLISHED-TTL:P3D
REFRESH-INTERVAL:P3D
CALSCALE:GREGORIAN
BEGIN:VEVENT
DTSTART:20160827T190000Z
DTEND:20160827T230000Z
X-MICROSOFT-CDO-ALLDAYEVENT:FALSE
SUMMARY:Highlands Day
DESCRIPTION:Highlands Council invites you to join our community and celebrate the end of summer on the last Saturday before school starts in Super Hero style! Projected attendance is 3\,500   5\,000+!\nSponsor Deadline: May 1st\n\nVendor Booth Deadline: August 1st or until the venue is full.
X-ALT-DESC;FMTTYPE=text/html:<h2>Highlands Council invites you to join our community and celebrate the end of summer on the last Saturday before school starts in&nbsp\;Super Hero style!&nbsp\;Projected attendance is 3\,500 &ndash\; 5\,000+!</h2>\n<strong>Sponsor Deadline: May 1st<br />\nVendor Booth Deadline: August 1st or until the venue is full. &nbsp\;</strong>
LOCATION:Blakely Hall and Village Green Park in Issaquah Highlands
UID:e.684.2022
SEQUENCE:3
DTSTAMP:20260425T030307Z
URL:https://business.issaquahchamber.com/events/details/highlands-day-08-27-2016-2022
END:VEVENT

END:VCALENDAR
