BEGIN:VCALENDAR
VERSION:2.0
PRODID:-//ChamberMaster//Event Calendar 2.0//EN
METHOD:PUBLISH
X-PUBLISHED-TTL:P3D
REFRESH-INTERVAL:P3D
CALSCALE:GREGORIAN
BEGIN:VEVENT
DTSTART:20170826T190000Z
DTEND:20170826T230000Z
X-MICROSOFT-CDO-ALLDAYEVENT:FALSE
SUMMARY:Highlands Day
DESCRIPTION:Once upon a time\, in a village on a hillside in the land of Issaquah\, the people declared\, \n\n"Hear Ye! Hear Ye! \n\nThe 26th day of the month of August\, \n\nin the year of two-thousand-seventeen\, \n\nhas been pronounced Highlands Day!"
X-ALT-DESC;FMTTYPE=text/html:<p style="margin: 0px\;"><i><span style="margin: 0px\; font-size: 12pt\;">Once upon a time</span></i><span style="margin: 0px\; font-size: 12pt\;">\, in a village on a hillside in the land of Issaquah\, the people declared\, </span></p>\n\n<p align="center" style="margin: 0px\; text-align: center\;"><i><span style="margin: 0px\; font-size: 14pt\;">&ldquo\;Hear Ye! Hear Ye! </span></i></p>\n\n<p align="center" style="margin: 0px\; text-align: center\;"><i><span style="margin: 0px\; font-size: 14pt\;">The <b>26<sup>th</sup> day of the month of August</b>\, </span></i></p>\n\n<p align="center" style="margin: 0px\; text-align: center\;"><i><span style="margin: 0px\; font-size: 14pt\;">in the year of two-thousand-seventeen\, </span></i></p>\n\n<p align="center" style="margin: 0px\; text-align: center\;"><i><span style="margin: 0px\; font-size: 14pt\;">has been pronounced <b>Highlands Day</b>!&rdquo\;</span></i></p>\n
LOCATION:Issaquah Highlands
UID:e.684.3527
SEQUENCE:3
DTSTAMP:20260424T131755Z
URL:https://business.issaquahchamber.com/events/details/highlands-day-3527
END:VEVENT

END:VCALENDAR
