BEGIN:VCALENDAR
VERSION:2.0
PRODID:-//ChamberMaster//Event Calendar 2.0//EN
METHOD:PUBLISH
X-PUBLISHED-TTL:P3D
REFRESH-INTERVAL:P3D
CALSCALE:GREGORIAN
BEGIN:VEVENT
DTSTART:20170210T030000Z
DTEND:20170210T050000Z
X-MICROSOFT-CDO-ALLDAYEVENT:FALSE
SUMMARY:Historic Pub Crawl
DESCRIPTION:The Downtown Issaquah Association and the Issaquah Historical Museums are pleased to announce our 2017 Pub Crawl series.  Issaquah has an interesting and colorful past of bars\, brawls and bullets and we want to share it with you.  Pub Crawl is a must for anyone new to the area and makes a memorable date night or team building event.  Pub Crawl is held three times a year and sells out each time so register early.  \n\nThe event starts at the Issaquah Train Depot where you will meet local historians who will take you through six (6) of Issaquah's downtown establishments each featuring a cocktail or appetizer\, lively narratives\, side splitting stories and juicy tidbits our pioneers didn't want you to hear!  The event will end at the historic Shell Station with a shot of moonshine paired with chocolate truffles.\n\nThe event kicks off at the Issaquah Train Depot at 6:45 p.m. The Pub Crawl will commence at 7:00 p.m. sharp and end around 9:00 p.m. This event involves some walking and standing outdoors\, please plan and dress accordingly.\n\nThis event will sell out early with only 30 tickets available.  Cost is $50 per person\, must be 21 or older to attend.  Price includes a souvenir beer glass.  Tickets can be purchased online at www.downtownissaquah.com.  For questions please call Brenda DeVore at 425.391.1112 or email at events@downtownissaquah.com
X-ALT-DESC;FMTTYPE=text/html:<br />\n<strong><span style="font-weight:normal\;"><span style="color:black\;"><span style="font-size:11.0pt\;">The Downtown Issaquah Association and the Issaquah Historical Museums are pleased to announce our 2017 Pub Crawl series.&nbsp\; </span></span></span></strong><span style="font-size:11.0pt\;">Issaquah has an interesting and colorful past of bars\, brawls and bullets and we want to share it with you.&nbsp\; Pub Crawl is a must for anyone new to the area and makes a memorable date night or team building event.&nbsp\; Pub Crawl is held three times a year and sells out each time so register early.&nbsp\; </span><br />\n<span style="font-size:11.0pt\;">The event starts at the Issaquah Train Depot where you will meet local historians who will take you through six (6) of Issaquah&rsquo\;s downtown establishments each featuring a cocktail or appetizer\, lively narratives\, side splitting stories and juicy tidbits our pioneers didn&rsquo\;t want you to hear!&nbsp\; The event will end at the historic Shell Station with a shot of moonshine paired with chocolate truffles.</span><br />\n<span style="font-size:11.0pt\;">The event kicks off at the Issaquah Train Depot at 6:45 p.m. The Pub Crawl will commence at 7:00 p.m. sharp and end around 9:00 p.m. This event involves some walking and standing outdoors\, please plan and dress accordingly.</span><br />\n<span style="font-family:times new roman\,serif\;"><span style="font-size:11.0pt\;">This event will sell out early with only 30 tickets available.&nbsp\; Cost is $50 per person\, must be 21 or older to attend.&nbsp\; Price includes a souvenir beer glass.&nbsp\; Tickets can be purchased online at </span></span><span style="font-family:times new roman\,serif\;"><span style="font-size:12.0pt\;"><a href="http://www.downtownissaquah.com/"><span style="color:windowtext\;"><span style="font-size:11.0pt\;">www.downtownissaquah.com</span></span></a></span></span><span style="font-family:times new roman\,serif\;"><span style="font-size:11.0pt\;">.&nbsp\; For questions please call Brenda DeVore at 425.391.1112 or email at </span></span><span style="font-family:times new roman\,serif\;"><span style="font-size:12.0pt\;"><a href="mailto:events@downtownissaquah.com"><span style="color:windowtext\;"><span style="font-size:11.0pt\;">events@downtownissaquah.com</span></span></a></span></span>
LOCATION:Downtown Issaquah
UID:e.684.3158
SEQUENCE:3
DTSTAMP:20260424T193608Z
URL:https://business.issaquahchamber.com/events/details/historic-pub-crawl-3158
END:VEVENT

END:VCALENDAR
