BEGIN:VCALENDAR
VERSION:2.0
PRODID:-//ChamberMaster//Event Calendar 2.0//EN
METHOD:PUBLISH
X-PUBLISHED-TTL:P3D
REFRESH-INTERVAL:P3D
CALSCALE:GREGORIAN
BEGIN:VEVENT
DTSTART:20160220T180000Z
DTEND:20160220T200000Z
X-MICROSOFT-CDO-ALLDAYEVENT:FALSE
SUMMARY:History Hike
DESCRIPTION:Museum guide\, Doug Bristol\, will lead participants on a walk through the history of Issaquah\, from the Native Americans to the present day. The tour will begin at 10 a.m. Advance registration is required. Participants check in at the Issaquah Depot. It will cover roughly two miles of level sidewalk and will last approximately two hours.\n\nWalks are held rain or shine. We recommend that you bring water and snacks\, and request that you leave animal companions at home.
X-ALT-DESC;FMTTYPE=text/html:<p style="box-sizing: border-box\; margin: 0px 0px 10px\; padding: 0px\; border: 0px rgb(225\, 225\, 225)\; font-family: 'Open Sans'\, HelveticaNeue\, 'Helvetica Neue'\, Helvetica\, Arial\, sans-serif\; font-stretch: inherit\; line-height: 1.7\; vertical-align: baseline\; color: rgb(102\, 102\, 102)\;">Museum guide\, Doug Bristol\, will lead participants on a walk through the history of Issaquah\, from the Native Americans to the present day. The tour will begin at 10 a.m. Advance registration is required. Participants check in at the Issaquah Depot. It will cover roughly two miles of level sidewalk and will last approximately two hours.</p>\n\n<p style="box-sizing: border-box\; margin: 0px 0px 10px\; padding: 0px\; border: 0px rgb(225\, 225\, 225)\; font-family: 'Open Sans'\, HelveticaNeue\, 'Helvetica Neue'\, Helvetica\, Arial\, sans-serif\; font-stretch: inherit\; line-height: 1.7\; vertical-align: baseline\; color: rgb(102\, 102\, 102)\;">Walks are held rain or shine. We recommend that you bring water and snacks\, and request that you leave animal companions at home.</p>\n
LOCATION:Issaquah Depot Museum\, 78 First Avenue NE
UID:e.684.1761
SEQUENCE:3
DTSTAMP:20260425T112515Z
URL:https://business.issaquahchamber.com/events/details/history-hike-02-20-2016-1761
END:VEVENT

END:VCALENDAR
