BEGIN:VCALENDAR
VERSION:2.0
PRODID:-//ChamberMaster//Event Calendar 2.0//EN
METHOD:PUBLISH
X-PUBLISHED-TTL:P3D
REFRESH-INTERVAL:P3D
CALSCALE:GREGORIAN
BEGIN:VEVENT
DTSTART:20170520T160000Z
DTEND:20170520T210000Z
X-MICROSOFT-CDO-ALLDAYEVENT:FALSE
SUMMARY:Hobby and Volunteer Expo
DESCRIPTION:Discover local service groups\, clubs\, hobby groups\, community activities\, and organizations in which you could volunteer or join!
X-ALT-DESC;FMTTYPE=text/html:Discover local service groups\, clubs\, hobby groups\, community activities\,&nbsp\;and organizations in which you could volunteer or join!
LOCATION:Pickering Barn 1730 10th Ave NW Issaquah\, WA 98027
UID:e.684.3536
SEQUENCE:3
DTSTAMP:20260424T155932Z
URL:https://business.issaquahchamber.com/events/details/hobby-and-volunteer-expo-3536
END:VEVENT

END:VCALENDAR
