BEGIN:VCALENDAR
VERSION:2.0
PRODID:-//ChamberMaster//Event Calendar 2.0//EN
METHOD:PUBLISH
X-PUBLISHED-TTL:P3D
REFRESH-INTERVAL:P3D
CALSCALE:GREGORIAN
BEGIN:VEVENT
DTSTART:20151205T220000Z
DTEND:20151205T220000Z
X-MICROSOFT-CDO-ALLDAYEVENT:FALSE
SUMMARY:Holiday Benefit Concert
DESCRIPTION:Springfree Trampolines is hosting a Holiday Benefit Concert! Families are invited to dance\, sing along\, and jump to the music of Recess Monkey. Recess Monkey is the nationally acclaimed trio of teachers who make music for kids and families. Light snacks and drinks will be served.
X-ALT-DESC;FMTTYPE=text/html:Springfree Trampolines is hosting a Holiday Benefit Concert! Families are invited to dance\, sing along\, and jump to the music of Recess Monkey. Recess Monkey is the nationally acclaimed trio of teachers who make music for kids and families. Light snacks and drinks will be served.
LOCATION:Springfree Trampoline 1875 NW Poplar Way Issaquah\, WA 98029
UID:e.684.1421
SEQUENCE:3
DTSTAMP:20260425T141557Z
URL:https://business.issaquahchamber.com/events/details/holiday-benefit-concert-12-05-2015-1421
END:VEVENT

END:VCALENDAR
