BEGIN:VCALENDAR
VERSION:2.0
PRODID:-//ChamberMaster//Event Calendar 2.0//EN
METHOD:PUBLISH
X-PUBLISHED-TTL:P3D
REFRESH-INTERVAL:P3D
CALSCALE:GREGORIAN
BEGIN:VEVENT
DTSTART:20151121T180000Z
DTEND:20151121T200000Z
X-MICROSOFT-CDO-ALLDAYEVENT:FALSE
SUMMARY:Holiday DeLights-Light Hanging Work Party
DESCRIPTION:An annual work party is organized to hang lights on all the buildings on Front Street from Sunset to Dogwood to get downtown ready for the holidays.
X-ALT-DESC;FMTTYPE=text/html:An annual work party is organized to hang lights on all the buildings on Front Street from Sunset to Dogwood to get downtown ready for the holidays.
LOCATION:Meet at the Hailstone Feed Store (the old shell station on Front Street).
UID:e.684.1414
SEQUENCE:3
DTSTAMP:20260425T153526Z
URL:https://business.issaquahchamber.com/events/details/holiday-delights-light-hanging-work-party-11-21-2015-1414
END:VEVENT

END:VCALENDAR
