BEGIN:VCALENDAR
VERSION:2.0
PRODID:-//ChamberMaster//Event Calendar 2.0//EN
METHOD:PUBLISH
X-PUBLISHED-TTL:P3D
REFRESH-INTERVAL:P3D
CALSCALE:GREGORIAN
BEGIN:VEVENT
DTSTART:20151213T003000Z
DTEND:20151213T013000Z
X-MICROSOFT-CDO-ALLDAYEVENT:FALSE
SUMMARY:Holiday Lighted Boat Parade and Bonfire
DESCRIPTION:Watch the 4th Annual Holiday Lighted Boat Parade from the shoreline at Lake Sammamish State Park along Tibbetts Beach. Several bonfires will provide warmth and light. The Friends of Lake Sammamish State Park will be serving free hot chocolate.\n\nWear warm clothes\, sturdy shoes\, gloves\, holiday hat and good cheer!
X-ALT-DESC;FMTTYPE=text/html:<p style="margin: 0px 0px 10px\; padding: 0px 0px 10px\; border: 0px\; outline: 0px\; vertical-align: baseline\; line-height: 1.7\; color: rgb(77\, 77\, 77)\; font-family: 'Droid Sans'\, Arial\, Verdana\, sans-serif\; background-image: initial\; background-attachment: initial\; background-size: initial\; background-origin: initial\; background-clip: initial\; background-position: initial\; background-repeat: initial\;">Watch the 4th Annual Holiday Lighted Boat Parade from the shoreline at Lake Sammamish State Park along Tibbetts Beach. Several bonfires will provide warmth and light. The Friends of Lake Sammamish State Park will be serving free hot chocolate.</p>\n\n<p style="margin: 0px 0px 10px\; padding: 0px 0px 10px\; border: 0px\; outline: 0px\; vertical-align: baseline\; line-height: 1.7\; color: rgb(77\, 77\, 77)\; font-family: 'Droid Sans'\, Arial\, Verdana\, sans-serif\; background-image: initial\; background-attachment: initial\; background-size: initial\; background-origin: initial\; background-clip: initial\; background-position: initial\; background-repeat: initial\;">Wear warm clothes\, sturdy shoes\, gloves\, holiday hat and good cheer!</p>\n
LOCATION:Tibbetts Beach\, Lake Sammamish
UID:e.684.1429
SEQUENCE:3
DTSTAMP:20260425T141604Z
URL:https://business.issaquahchamber.com/events/details/holiday-lighted-boat-parade-and-bonfire-12-12-2015-1429
END:VEVENT

END:VCALENDAR
