BEGIN:VCALENDAR
VERSION:2.0
PRODID:-//ChamberMaster//Event Calendar 2.0//EN
METHOD:PUBLISH
X-PUBLISHED-TTL:P3D
REFRESH-INTERVAL:P3D
CALSCALE:GREGORIAN
BEGIN:VEVENT
DTSTART:20151203T003000Z
DTEND:20151203T023000Z
X-MICROSOFT-CDO-ALLDAYEVENT:FALSE
SUMMARY:Holiday Showcase of Homes
DESCRIPTION:University House Issaquah is hosting a professional networking event and we they don't want you to miss it! It will be a fun way to bring together industry professionals. Plus\, you will enjoy festive holiday hors d'oeuvres\, desserts\, and cocktails while mingling and touring our community.\n\n\n\nRSVP at 425-557-4200 or adrien.goucher@eraliving.com
X-ALT-DESC;FMTTYPE=text/html:University House Issaquah is hosting a professional networking event and we they don&#39\;t want you to miss it! It will be a fun way to bring together industry professionals. Plus\, you will enjoy festive holiday hors d&#39\;oeuvres\, desserts\, and cocktails while mingling and touring our community.<br />\n<br />\nRSVP at 425-557-4200 or adrien.goucher@eraliving.com
LOCATION:University House Issaquah 22975 SE Black Nugget Road Issaquah\, WA 98029
UID:e.684.1418
SEQUENCE:3
DTSTAMP:20260425T141855Z
URL:https://business.issaquahchamber.com/events/details/holiday-showcase-of-homes-12-02-2015-1418
END:VEVENT

END:VCALENDAR
