BEGIN:VCALENDAR
VERSION:2.0
PRODID:-//ChamberMaster//Event Calendar 2.0//EN
METHOD:PUBLISH
X-PUBLISHED-TTL:P3D
REFRESH-INTERVAL:P3D
CALSCALE:GREGORIAN
BEGIN:VEVENT
DTSTART:20170908T200000Z
DTEND:20170909T000000Z
X-MICROSOFT-CDO-ALLDAYEVENT:FALSE
SUMMARY:Issaquah Active for Life Expo
DESCRIPTION:Discover the keys to living well at 55 and beyond at our Active for Life Expo! Join us for a free event featuring workshops and other activities designed for our community members 55 and older.
X-ALT-DESC;FMTTYPE=text/html:Discover the keys to living well at 55 and beyond at our Active for Life Expo! Join us for a free event featuring workshops and other activities designed for our community members 55 and older.
LOCATION:Issaquah Senior Center 75 N.E. Creek Way Issaquah\, WA 98027
UID:e.684.3833
SEQUENCE:3
DTSTAMP:20260424T104722Z
URL:https://business.issaquahchamber.com/events/details/issaquah-active-for-life-expo-3833
END:VEVENT

END:VCALENDAR
