BEGIN:VCALENDAR
VERSION:2.0
PRODID:-//ChamberMaster//Event Calendar 2.0//EN
METHOD:PUBLISH
X-PUBLISHED-TTL:P3D
REFRESH-INTERVAL:P3D
CALSCALE:GREGORIAN
BEGIN:VEVENT
DTSTART:20150805T203000Z
DTEND:20150805T213000Z
X-MICROSOFT-CDO-ALLDAYEVENT:FALSE
SUMMARY:ISSAQUAH CHAMBER BUDGET & FINANCE COMMITTEE MEETING
DESCRIPTION:
X-ALT-DESC;FMTTYPE=text/html:
LOCATION:Issaquah Chamber of Commerce 155 NW Gilman Blvd. Issaquah\, WA 98027
UID:e.684.1032
SEQUENCE:3
DTSTAMP:20260425T195331Z
URL:https://business.issaquahchamber.com/events/details/issaquah-chamber-budget-finance-committee-meeting-08-05-2015-1032
END:VEVENT

END:VCALENDAR
