BEGIN:VCALENDAR
VERSION:2.0
PRODID:-//ChamberMaster//Event Calendar 2.0//EN
METHOD:PUBLISH
X-PUBLISHED-TTL:P3D
REFRESH-INTERVAL:P3D
CALSCALE:GREGORIAN
BEGIN:VEVENT
DTSTART:20170502T210000Z
DTEND:20170503T000000Z
X-MICROSOFT-CDO-ALLDAYEVENT:FALSE
SUMMARY:Issaquah Job Fair
DESCRIPTION:The City of Issaquah is hosting our 4th Annual Issaquah Job Fair. \n\nWe are excited to be able to offer this opportunity again in 2017 to connect Issaquah residents with Issaquah businesses.
X-ALT-DESC;FMTTYPE=text/html:<p style="margin: 0in 0in 0pt\;"><font color="#000000" face="Calibri" size="3">The City of Issaquah is hosting our 4th Annual Issaquah Job Fair. </font></p>\n\n<p style="margin: 0in 0in 0pt\;"><font color="#000000" face="Calibri" size="3">We are excited to be able to offer this opportunity again in 2017 to connect Issaquah residents with Issaquah businesses.</font></p>\n
LOCATION:Pickering Barn (1730 10th Ave NW)
UID:e.684.3502
SEQUENCE:3
DTSTAMP:20260424T160348Z
URL:https://business.issaquahchamber.com/events/details/issaquah-job-fair-3502
END:VEVENT

END:VCALENDAR
