BEGIN:VCALENDAR
VERSION:2.0
PRODID:-//ChamberMaster//Event Calendar 2.0//EN
METHOD:PUBLISH
X-PUBLISHED-TTL:P3D
REFRESH-INTERVAL:P3D
CALSCALE:GREGORIAN
BEGIN:VEVENT
DTSTART:20160831T020000Z
DTEND:20160831T030000Z
X-MICROSOFT-CDO-ALLDAYEVENT:FALSE
SUMMARY:Issaquah Kick-Off Town Hall Meeting
DESCRIPTION:The American Cancer Society is spreading the word about an upcoming Issaquah event.\n\n \n\nPlease join them for a special Town Hall meeting kicking off the American Cancer Society's Making Strides Against Breast Cancer \n\n\n\nRegister for the town hall event\, HERE\n\n\n\n\n\nAlthough the walk is not until October 29\, 2016\, they will be kicking this event off with a FREE educational event.  Learn how you can get involved by starting a team\, get ideas for creative fundraising\, and honor those who have been touched by breast cancer. \n\n \n\nWe encourage Issaquah businesses to bring their friends and family and anyone interested in ending the pain and suffering caused by breast cancer.
X-ALT-DESC;FMTTYPE=text/html:The American Cancer Society is spreading the word about an upcoming Issaquah event.<br />\n&nbsp\;<br />\n<span style="color:black\;"><span style="font-family:calibri\,sans-serif\;"><span style="font-size:11.0pt\;">Please join them for a special Town Hall meeting </span></span></span><span style="font-family:calibri\,sans-serif\;"><span style="font-size:11.0pt\;">kicking off<span style="color:black\;"> the</span> American Cancer Society&rsquo\;s <strong><span style="color:black\;">Making Strides Against Breast Cancer&nbsp\;<br />\n<br />\nRegister for the town hall event\, <a href="http://seattlestridesissaquahtownhall.eventbrite.com/">HERE</a></span></strong></span></span><br />\n<br />\n<br />\nAlthough the walk is not until October 29\, 2016\, they will be kicking this event off with a FREE educational event.&nbsp\; <span style="color:black\;">Learn how you can get involved by starting a team\, get ideas for creative fundraising\, and honor those who have been touched by breast cancer. </span><br />\n&nbsp\;<br />\n<span style="color:black\;">We encourage Issaquah businesses to bring their friends and family and anyone interested in ending the pain and suffering caused by breast cancer.</span><br />\n&nbsp\;
LOCATION:Swedish Issaquah\, Knowledge Room\, 2nd Floor conference hall 751 NE Blakely Drive Issaquah\, WA\, 98027
UID:e.684.2075
SEQUENCE:3
DTSTAMP:20260425T030616Z
URL:https://business.issaquahchamber.com/events/details/issaquah-kick-off-town-hall-meeting-2075
END:VEVENT

END:VCALENDAR
