BEGIN:VCALENDAR
VERSION:2.0
PRODID:-//ChamberMaster//Event Calendar 2.0//EN
METHOD:PUBLISH
X-PUBLISHED-TTL:P3D
REFRESH-INTERVAL:P3D
CALSCALE:GREGORIAN
BEGIN:VEVENT
DTSTART:20151208T033000Z
DTEND:20151208T050000Z
X-MICROSOFT-CDO-ALLDAYEVENT:FALSE
SUMMARY:Issaquah Philharmonic Holiday Concert
DESCRIPTION:Get in the holiday spirit with music from the Issaquah Philharmonic.
X-ALT-DESC;FMTTYPE=text/html:Get in the holiday spirit with music from the Issaquah Philharmonic.&nbsp\;
LOCATION:Issaquah Valley Elementary\, 555 N.W. Holly St.
UID:e.684.1428
SEQUENCE:3
DTSTAMP:20260425T141757Z
URL:https://business.issaquahchamber.com/events/details/issaquah-philharmonic-holiday-concert-12-07-2015-1428
END:VEVENT

END:VCALENDAR
