BEGIN:VCALENDAR
VERSION:2.0
PRODID:-//ChamberMaster//Event Calendar 2.0//EN
METHOD:PUBLISH
X-PUBLISHED-TTL:P3D
REFRESH-INTERVAL:P3D
CALSCALE:GREGORIAN
BEGIN:VEVENT
DTSTART:20151222T210000Z
DTEND:20151222T230000Z
X-MICROSOFT-CDO-ALLDAYEVENT:FALSE
SUMMARY:Issaquah Reindeer Festival
DESCRIPTION:Big Cat Holiday Celebration at the Cougar Mountain Zoo. Tigers are featured at 1:00 PM and Cougars at 2:00 PM.
X-ALT-DESC;FMTTYPE=text/html:Big Cat Holiday Celebration at the Cougar Mountain Zoo. Tigers are featured at 1:00 PM and Cougars at 2:00 PM.
LOCATION:Cougar Mountain Zoo 19525 SE 54th St Issaquah\, WA 98027
UID:e.684.1430
SEQUENCE:3
DTSTAMP:20260425T141855Z
URL:https://business.issaquahchamber.com/events/details/issaquah-reindeer-festival-12-22-2015-1430
END:VEVENT

END:VCALENDAR
