BEGIN:VCALENDAR
VERSION:2.0
PRODID:-//ChamberMaster//Event Calendar 2.0//EN
METHOD:PUBLISH
X-PUBLISHED-TTL:P3D
REFRESH-INTERVAL:P3D
CALSCALE:GREGORIAN
BEGIN:VEVENT
DTSTART:20170728T010000Z
DTEND:20170728T033000Z
X-MICROSOFT-CDO-ALLDAYEVENT:FALSE
SUMMARY:Issaquah's 125th Birthday Celebration
DESCRIPTION:In 2017\, Issaquah is turning 125 years old   and you're invited to our community's birthday celebration!\n\n\n\nIssaquah   incorporated in 1892   was originally named Gilman\, and then officially renamed Issaquah seven years later.\n\n\n\nTo celebrate our birthday\, join us for a fun evening of free activities   including bounce houses\, live music\, games\, old-fashioned activities\, geocaching and more. Grab dinner from several food trucks onsite\, and enjoy free treats for dessert.\n\n\n\nThanks to our sponsors   Comcast\, Lakeside Industries\, Inc\, Recology CleanScapes and Rowley Properties Issaquah. Thanks to the generosity of several community partners\, the celebration is being produced with private donations.
X-ALT-DESC;FMTTYPE=text/html:<span class="_4n-j _fbReactionComponent__eventDetailsContentTags fsl" data-testid="event-permalink-details">In 2017\, Issaquah is turning 125 years old &mdash\; and you&#39\;re invited to our community&#39\;s birthday celebration!<br />\n<br />\nIssaquah &mdash\; incorporated in 1892 &mdash\; was originally named Gilman\, and then officially renamed Issaquah seven years later.<br />\n<br />\nTo celebrate our birthday\, join us for a fun evening of free activities &mdash\; including bounce houses\, live music\, games\, old-fashioned activities\, geocaching and more. Grab dinner from several food trucks onsite\, and enjoy free treats for dessert.<br />\n<br />\nThanks to our sponsors &mdash\; Comcast\, Lakeside Industries\, Inc\, Recology CleanScapes and Rowley Properties Issaquah. Thanks to the generosity of several community partners\, the celebration is being produced with private donations.</span><br />\n&nbsp\;
LOCATION:Confluence Park 695 Rainier Blvd N Issaquah WA 98027
UID:e.684.3663
SEQUENCE:3
DTSTAMP:20260424T132047Z
URL:https://business.issaquahchamber.com/events/details/issaquah-s-125th-birthday-celebration-3663
END:VEVENT

END:VCALENDAR
