BEGIN:VCALENDAR
VERSION:2.0
PRODID:-//ChamberMaster//Event Calendar 2.0//EN
METHOD:PUBLISH
X-PUBLISHED-TTL:P3D
REFRESH-INTERVAL:P3D
CALSCALE:GREGORIAN
BEGIN:VEVENT
DTSTART:20171123T170000Z
DTEND:20171124T010000Z
X-MICROSOFT-CDO-ALLDAYEVENT:FALSE
SUMMARY:Issaquah Turkey Trot
DESCRIPTION:The Issaquah Turkey Trot is a fun & casual 5K (3.12 miles) on Thanksgiving morning. There are no prizes\, bibs\, time chips\, or numbers. The purpose is to come together as families and as a community during the Thanksgiving holiday and help those in need.
X-ALT-DESC;FMTTYPE=text/html:The Issaquah Turkey Trot is a fun &amp\; casual 5K (3.12 miles) on Thanksgiving morning. There are no prizes\, bibs\, time chips\, or numbers. The purpose is to come together as families&nbsp\;and as a community during the Thanksgiving holiday and help those in need.
LOCATION:Bush St. between the Issaquah Food Bank and the Issaquah Community Center.
UID:e.684.3881
SEQUENCE:3
DTSTAMP:20260424T075045Z
URL:https://business.issaquahchamber.com/events/details/issaquah-turkey-trot-3881
END:VEVENT

END:VCALENDAR
