BEGIN:VCALENDAR
VERSION:2.0
PRODID:-//ChamberMaster//Event Calendar 2.0//EN
METHOD:PUBLISH
X-PUBLISHED-TTL:P3D
REFRESH-INTERVAL:P3D
CALSCALE:GREGORIAN
BEGIN:VEVENT
DTSTART:20170604T200000Z
DTEND:20170604T230000Z
X-MICROSOFT-CDO-ALLDAYEVENT:FALSE
SUMMARY:Issy Kids Triathlon
DESCRIPTION:You're invited to swim\, bike and run your way to the finish line at the second annual Issy Kids Triathlon!\n\n\n\nSwim in Julius Boehm Pool\, bike down Rainier Trail and run around the Community Center grounds. Enjoy the celebration at the finish line on the Community Center front lawn.\n\n\n\nThe event is for children ages 6-12. The non-timed\, just-for-fun race gives kids a taste of what a triathlon is all about.\n\n\n\nPre-registration is required for the event\, which will be held rain or shine. To learn more and pre-register\, go issaquahwa.gov/issykidstri.\n\n\n\nThe event has a noon check-in on the Community Center front lawn and a 1 p.m. event start.\n\n\n\nThe event is hosted by our parks and recreation team and the Issaquah Youth Advisory Board.
X-ALT-DESC;FMTTYPE=text/html:<span class="_4n-j _fbReactionComponent__eventDetailsContentTags fsl" data-testid="event-permalink-details">You&#39\;re invited to swim\, bike and run your way to the finish line at the second annual Issy Kids Triathlon!<br />\n<br />\nSwim in Julius Boehm Pool\, bike down Rainier Trail and run around the Community Center grounds. Enjoy the celebration at the finish line on the Community Center front lawn.<br />\n<br />\nThe event is for children ages 6-12. The non-timed\, just-for-fun race gives kids a taste of what a triathlon is all about.<br />\n<br />\nPre-registration is required for the event\, which will be held rain or shine. To learn more and pre-register\, go <a href="http://issaquahwa.gov/issykidstri" rel="nofollow nofollow" target="_blank"><font color="#0066cc">issaquahwa.gov/issykidstri</font></a>.<br />\n<br />\nThe event has a noon check-in on the Community Center front lawn and a 1 p.m. event start.<br />\n<br />\nThe event is hosted by our parks and recreation team and the Issaquah Youth Advisory Board.</span>
LOCATION:Issaquah Community Center 301 Rainier Blvd S. Issaquah WA\, 98027
UID:e.684.3637
SEQUENCE:3
DTSTAMP:20260424T144834Z
URL:https://business.issaquahchamber.com/events/details/issy-kids-triathlon-3637
END:VEVENT

END:VCALENDAR
