BEGIN:VCALENDAR
VERSION:2.0
PRODID:-//ChamberMaster//Event Calendar 2.0//EN
METHOD:PUBLISH
X-PUBLISHED-TTL:P3D
REFRESH-INTERVAL:P3D
CALSCALE:GREGORIAN
BEGIN:VEVENT
DTSTART:20180603T200000Z
DTEND:20180603T230000Z
X-MICROSOFT-CDO-ALLDAYEVENT:FALSE
SUMMARY:Issy Kids Triathlon
DESCRIPTION:Join the City of Issaquah for the 3rd Annual Issy Kids Triathlon! \n\n\n\nSwim\, bike and run your way to the finish line! Jump in the pool for the first leg of the course. Then\, hop on your bike for the Rainier Trail loop where you'll wrap up the event with a run around the Community Center front lawn. Rain or shine! This is an untimed "just for fun!" race to give kids a taste of what a triathlon is all about. \n\n\n\nThank you to the Issaquah Youth Advisory Board for their part in making this event a reality! \n\n\n\nPre-registration only. Registration is $30 for nonresidents\; $25 for Issaquah residents. Register online: http://www.issaquahwa.gov/Index.aspx?NID=725
X-ALT-DESC;FMTTYPE=text/html:<span style="color: rgb(29\, 33\, 41)\; font-family: Helvetica\, Arial\, sans-serif\; font-size: 14px\;">Join the City of Issaquah&nbsp\;for the 3rd Annual Issy Kids Triathlon!&nbsp\;</span><br style="color: rgb(29\, 33\, 41)\; font-family: Helvetica\, Arial\, sans-serif\; font-size: 14px\;" />\n<br style="color: rgb(29\, 33\, 41)\; font-family: Helvetica\, Arial\, sans-serif\; font-size: 14px\;" />\n<span style="color: rgb(29\, 33\, 41)\; font-family: Helvetica\, Arial\, sans-serif\; font-size: 14px\;">Swim\, bike and run your way to the finish line! Jump in the pool for the first leg of the course. Then\, hop on your bike for the Rainier Trail loop where you&#39\;ll wrap up the event with a run around the Community Center front lawn. Rain or shine! This is an untimed &quot\;just for fun!&quot\; race to give kids a taste of what a triathlon is all about.&nbsp\;</span><br style="color: rgb(29\, 33\, 41)\; font-family: Helvetica\, Arial\, sans-serif\; font-size: 14px\;" />\n<br style="color: rgb(29\, 33\, 41)\; font-family: Helvetica\, Arial\, sans-serif\; font-size: 14px\;" />\n<span style="color: rgb(29\, 33\, 41)\; font-family: Helvetica\, Arial\, sans-serif\; font-size: 14px\;">Thank you to the Issaquah Youth Advisory Board for their part in making this event a reality!&nbsp\;</span><br style="color: rgb(29\, 33\, 41)\; font-family: Helvetica\, Arial\, sans-serif\; font-size: 14px\;" />\n<br style="color: rgb(29\, 33\, 41)\; font-family: Helvetica\, Arial\, sans-serif\; font-size: 14px\;" />\n<span style="color: rgb(29\, 33\, 41)\; font-family: Helvetica\, Arial\, sans-serif\; font-size: 14px\;">Pre-registration only. Registration is $30 for nonresidents\; $25 for Issaquah residents. Register online:&nbsp\;</span><a href="https://l.facebook.com/l.php?u=http%3A%2F%2Fwww.issaquahwa.gov%2FIndex.aspx%3FNID%3D725&amp\;h=ATOXq2HvRjnD0NtBga6lw3Esc5Gh_xhImn2n7RTm8a0sgBt9JM3MHX8lfYQI-0SJPoAsU6pt1EZ7O_GFkb_YPjwOX4VbcKzSxj6A_3h2f9UtlAQ5wK8&amp\;s=1" style="color: rgb(54\, 88\, 153)\; cursor: pointer\; text-decoration-line: none\; font-family: Helvetica\, Arial\, sans-serif\; font-size: 14px\;">http://www.issaquahwa.gov/Index.aspx?NID=725</a>
LOCATION:301 Rainier Blvd. S.\, Issaquah
UID:e.684.5372
SEQUENCE:3
DTSTAMP:20260423T232907Z
URL:https://business.issaquahchamber.com/events/details/issy-kids-triathlon-5372
END:VEVENT

END:VCALENDAR
