BEGIN:VCALENDAR
VERSION:2.0
PRODID:-//ChamberMaster//Event Calendar 2.0//EN
METHOD:PUBLISH
X-PUBLISHED-TTL:P3D
REFRESH-INTERVAL:P3D
CALSCALE:GREGORIAN
BEGIN:VEVENT
DTSTART:20160130T010000Z
DTEND:20160130T030000Z
X-MICROSOFT-CDO-ALLDAYEVENT:FALSE
SUMMARY:Keeping it Lyrical
DESCRIPTION:University House Issaquah is inviting the community to attend a unique art exhibition and gala at their facilities. \n\n \n\nLife is a rich dance\, expressed through music\, movements\, words and the visual arts. This exhibition celebrates the lyrical composition of life and the arts. \n\n \n\nFine wines and hors d'oeuvres will be served. There will also be music by Bootleg Sunshine and a special dance interlude.
X-ALT-DESC;FMTTYPE=text/html:<div style="color: rgb(64\, 63\, 66)\; font-family: Arial\; font-size: 13.3333330154419px\; line-height: normal\;"><span _mce_style="font-size: 10pt\;" style="font-size: 10pt\;">University House Issaquah is inviting the&nbsp\;</span><span _mce_style="font-size: 10pt\;" style="font-size: 10pt\;">community to attend a unique art exhibition and gala at their facilities.&nbsp\;</span></div>\n\n<div style="color: rgb(64\, 63\, 66)\; font-family: Arial\; font-size: 13.3333330154419px\; line-height: normal\;">&nbsp\;</div>\n\n<div style="color: rgb(64\, 63\, 66)\; font-family: Arial\; font-size: 13.3333330154419px\; line-height: normal\;"><span _mce_style="font-size: 10pt\;" style="font-size: 10pt\;">Life is a rich dance\, expressed through music\, movements\, words and the visual arts. This exhibition celebrates the lyrical composition of life and the arts.&nbsp\;</span></div>\n\n<div style="color: rgb(64\, 63\, 66)\; font-family: Arial\; font-size: 13.3333330154419px\; line-height: normal\;">&nbsp\;</div>\n\n<div style="color: rgb(64\, 63\, 66)\; font-family: Arial\; font-size: 13.3333330154419px\; line-height: normal\;"><span _mce_style="font-size: 10pt\;" style="font-size: 10pt\;">Fine wines and&nbsp\;hors d&#39\;oeuvres will be served. There will also be music by Bootleg Sunshine and a special dance interlude.&nbsp\;</span></div>\n
LOCATION:University House Issaquah\, 22975 SE Black Nugget Road.
UID:e.684.1746
SEQUENCE:3
DTSTAMP:20260425T124919Z
URL:https://business.issaquahchamber.com/events/details/keeping-it-lyrical-01-29-2016-1746
END:VEVENT

END:VCALENDAR
