BEGIN:VCALENDAR
VERSION:2.0
PRODID:-//ChamberMaster//Event Calendar 2.0//EN
METHOD:PUBLISH
X-PUBLISHED-TTL:P3D
REFRESH-INTERVAL:P3D
CALSCALE:GREGORIAN
BEGIN:VEVENT
DTSTART:20170209T193000Z
DTEND:20170209T210000Z
X-MICROSOFT-CDO-ALLDAYEVENT:FALSE
SUMMARY:Luncheon - CANCELLED
DESCRIPTION:This event has been cancelled.
X-ALT-DESC;FMTTYPE=text/html:<span style="font-size:18px\;"><strong>This event has been cancelled.</strong></span><br />\n&nbsp\;
LOCATION:Pogacha 120 NW Gilman Blvd\, Issaquah\, WA 98027
UID:e.684.3146
SEQUENCE:3
DTSTAMP:20260424T193710Z
URL:https://business.issaquahchamber.com/events/details/luncheon-cancelled-3146
END:VEVENT

END:VCALENDAR
