BEGIN:VCALENDAR
VERSION:2.0
PRODID:-//ChamberMaster//Event Calendar 2.0//EN
METHOD:PUBLISH
X-PUBLISHED-TTL:P3D
REFRESH-INTERVAL:P3D
CALSCALE:GREGORIAN
BEGIN:VEVENT
DTSTART:20170720T020000Z
DTEND:20170720T040000Z
X-MICROSOFT-CDO-ALLDAYEVENT:FALSE
SUMMARY:Mayor Primary
DESCRIPTION:
X-ALT-DESC;FMTTYPE=text/html:
LOCATION:Blakely Hall 2550 NE Park Drive Issaquah Highlands
UID:e.684.3651
SEQUENCE:3
DTSTAMP:20260424T131729Z
URL:https://business.issaquahchamber.com/events/details/mayor-primary-3651
END:VEVENT

END:VCALENDAR
