BEGIN:VCALENDAR
VERSION:2.0
PRODID:-//ChamberMaster//Event Calendar 2.0//EN
METHOD:PUBLISH
X-PUBLISHED-TTL:P3D
REFRESH-INTERVAL:P3D
CALSCALE:GREGORIAN
BEGIN:VEVENT
DTSTART:20171019T020000Z
DTEND:20171019T040000Z
X-MICROSOFT-CDO-ALLDAYEVENT:FALSE
SUMMARY:Mayoral Candidate Forum
DESCRIPTION:
X-ALT-DESC;FMTTYPE=text/html:
LOCATION:Blakely Hall 2550 NE Park Drive Issaquah Highlands
UID:e.684.3654
SEQUENCE:3
DTSTAMP:20260424T091224Z
URL:https://business.issaquahchamber.com/events/details/mayoral-candidate-forum-3654
END:VEVENT

END:VCALENDAR
