BEGIN:VCALENDAR
VERSION:2.0
PRODID:-//ChamberMaster//Event Calendar 2.0//EN
METHOD:PUBLISH
X-PUBLISHED-TTL:P3D
REFRESH-INTERVAL:P3D
CALSCALE:GREGORIAN
BEGIN:VEVENT
DTSTART:20150922T223000Z
DTEND:20150923T003000Z
X-MICROSOFT-CDO-ALLDAYEVENT:FALSE
SUMMARY:Meet & Greet at Issaquah Hatchery & Issaquah Brewhouse
DESCRIPTION:Join us September 22nd at 3:30 at the Issaquah Hatchery for a private guided tour! After we're done with our tour we will make our way over to Issaquah Brewhouse for appetizers and drinks! Each attendee will receive one free drink ticket!
X-ALT-DESC;FMTTYPE=text/html:Join us September 22nd at 3:30 at the Issaquah Hatchery for a private guided tour! After we&#39\;re done with our tour we will make our way over to Issaquah Brewhouse for appetizers and drinks! Each attendee will receive one free drink ticket!&nbsp\;&nbsp\;
LOCATION:Issaquah Hatchery 125 W Sunset Way Issaquah\, WA 98027 Issaquah Brewhouse 35 W Sunset Way Issaquah\, WA 98027
UID:e.684.1367
SEQUENCE:3
DTSTAMP:20260425T182007Z
URL:https://business.issaquahchamber.com/events/details/meet-greet-at-issaquah-hatchery-issaquah-brewhouse-09-22-2015-1367
END:VEVENT

END:VCALENDAR
