BEGIN:VCALENDAR
VERSION:2.0
PRODID:-//ChamberMaster//Event Calendar 2.0//EN
METHOD:PUBLISH
X-PUBLISHED-TTL:P3D
REFRESH-INTERVAL:P3D
CALSCALE:GREGORIAN
BEGIN:VEVENT
DTSTART:20151008T183000Z
DTEND:20151008T203000Z
X-MICROSOFT-CDO-ALLDAYEVENT:FALSE
SUMMARY:Membership Luncheon
DESCRIPTION:"Let's Put Issaquah on the Map"\n\n\n\nThe Greater Issaquah Chamber of Commerce partnering with Google to help put every business in Issaquah on the map including yours. \n\nBusinesses that have complete business information online are twice as likely to be considered reputable by consumers. When \n\npeople can find info about local dentists\, dry cleaners\, and your business\, our community becomes even stronger.
X-ALT-DESC;FMTTYPE=text/html:<span style="font-size:16px\;"><span style="font-weight: bold\;"><span style="font-family: arial\;">&quot\;Let&rsquo\;s Put Issaquah on the Map&rdquo\;</span></span><br />\n<br />\n<span style="color: rgb(102\, 102\, 102)\;"><span style="font-family: arial\;">The Greater Issaquah Chamber of Commerce partnering with Google to help put every business in Issaquah on the map&mdash\;including yours. </span></span><br />\n<span style="color: rgb(102\, 102\, 102)\;"><span style="font-family: arial\;">Businesses that have complete business information online are twice as likely to be considered reputable by consumers. When </span></span><br />\n<span style="color: rgb(102\, 102\, 102)\;"><span style="font-family: arial\;">people can find info about local dentists\, dry cleaners\, and your business\, our community becomes even stronger.</span></span></span><br />\n&nbsp\;<br />\n<br />\n&nbsp\;
LOCATION:The Issaquah Holiday Inn 1801 12th Ave NW\, Issaquah
UID:e.684.1371
SEQUENCE:3
DTSTAMP:20260425T165507Z
URL:https://business.issaquahchamber.com/events/details/membership-luncheon-10-08-2015-1371
END:VEVENT

END:VCALENDAR
