BEGIN:VCALENDAR
VERSION:2.0
PRODID:-//ChamberMaster//Event Calendar 2.0//EN
METHOD:PUBLISH
X-PUBLISHED-TTL:P3D
REFRESH-INTERVAL:P3D
CALSCALE:GREGORIAN
BEGIN:VEVENT
DTSTART;VALUE=DATE:20170116
DTEND;VALUE=DATE:20170117
TRANSP:TRANSPARENT
X-MICROSOFT-CDO-ALLDAYEVENT:TRUE
SUMMARY:MLK Day of Service
DESCRIPTION:United Way of King County is hosting its annual MLK Day of Service\, which includes several volunteer projects in our community:\n\n\n\nTree potting at Mountains to Sound Greenway Native Plant Nursery\, 9 a.m.-noon Jan. 16\n\nDuthie Hill Mountain Bike Park trail maintenance\, 9 a.m.- 1 p.m. Jan. 16\n\nLake Sammamish habitat restoration\, 10 a.m.-noon Jan. 16\n\nTree potting at Mountains to Sound Greenway Native Plant Nursery\, noon-3 p.m. Jan. 16
X-ALT-DESC;FMTTYPE=text/html:United Way of King County is hosting its annual MLK Day of Service\, which includes several volunteer projects in our community:<br />\n<br />\nTree potting at Mountains to Sound Greenway Native Plant Nursery\, 9 a.m.-noon Jan. 16<br />\nDuthie Hill Mountain Bike Park trail maintenance\, 9 a.m.- 1 p.m. Jan. 16<br />\nLake Sammamish habitat restoration\, 10 a.m.-noon Jan. 16<br />\nTree potting at Mountains to Sound Greenway Native Plant Nursery\, noon-3 p.m. Jan. 16<br />\n&nbsp\;
LOCATION:Issaquah\, WA 98027
UID:e.684.3170
SEQUENCE:3
DTSTAMP:20260424T205523Z
URL:https://business.issaquahchamber.com/events/details/mlk-day-of-service-3170
END:VEVENT

END:VCALENDAR
