BEGIN:VCALENDAR
VERSION:2.0
PRODID:-//ChamberMaster//Event Calendar 2.0//EN
METHOD:PUBLISH
X-PUBLISHED-TTL:P3D
REFRESH-INTERVAL:P3D
CALSCALE:GREGORIAN
BEGIN:VEVENT
DTSTART;VALUE=DATE:20170116
DTEND;VALUE=DATE:20170117
TRANSP:TRANSPARENT
X-MICROSOFT-CDO-ALLDAYEVENT:TRUE
SUMMARY:MLK Jr Day
DESCRIPTION:Chamber offices will be closed in observance of Martin Luther King Jr. Day
X-ALT-DESC;FMTTYPE=text/html:Chamber offices will be closed in observance of Martin Luther King Jr. Day
LOCATION:
UID:e.684.3169
SEQUENCE:3
DTSTAMP:20260424T205345Z
URL:https://business.issaquahchamber.com/events/details/mlk-jr-day-3169
END:VEVENT

END:VCALENDAR
