BEGIN:VCALENDAR
VERSION:2.0
PRODID:-//ChamberMaster//Event Calendar 2.0//EN
METHOD:PUBLISH
X-PUBLISHED-TTL:P3D
REFRESH-INTERVAL:P3D
CALSCALE:GREGORIAN
BEGIN:VEVENT
DTSTART:20170802T000000Z
DTEND:20170802T020000Z
X-MICROSOFT-CDO-ALLDAYEVENT:FALSE
SUMMARY:National Night Out
DESCRIPTION:You're invited as the Issaquah Police Department hosts a National Night Out celebration! Join us for free food\, music and activities.\n\n\n\nOr\, invite our officers to a party in your neighborhood!\n\n\n\nIf you would like to host a party with police in your neighborhood\, contact Community Resource Officer Ryan Smith at ryanps@issaquahwa.gov or at 425-837-3208.
X-ALT-DESC;FMTTYPE=text/html:<span class="_4n-j _fbReactionComponent__eventDetailsContentTags fsl" data-testid="event-permalink-details">You&#39\;re invited as the Issaquah Police Department hosts a <a data-hovercard="/ajax/hovercard/page.php?id=132287213456510&amp\;extragetparams=%7B%22directed_target_id%22%3A148594855698540%7D" data-hovercard-prefer-more-content-show="1" href="https://www.facebook.com/nationalnightout/"><font color="#0066cc">National Night Out</font></a> celebration! Join us for free food\, music and activities.<br />\n<br />\nOr\, invite our officers to a party in your neighborhood!<br />\n<br />\nIf you would like to host a party with police in your neighborhood\, contact Community Resource Officer Ryan Smith at ryanps@issaquahwa.gov or at 425-837-3208.</span>
LOCATION:Issaquah Police Department 130 E Sunset Way Issaquah WA 98027
UID:e.684.3661
SEQUENCE:3
DTSTAMP:20260424T115457Z
URL:https://business.issaquahchamber.com/events/details/national-night-out-3661
END:VEVENT

END:VCALENDAR
