BEGIN:VCALENDAR
VERSION:2.0
PRODID:-//ChamberMaster//Event Calendar 2.0//EN
METHOD:PUBLISH
X-PUBLISHED-TTL:P3D
REFRESH-INTERVAL:P3D
CALSCALE:GREGORIAN
BEGIN:VEVENT
DTSTART;VALUE=DATE:20160125
DTEND;VALUE=DATE:20160126
TRANSP:TRANSPARENT
X-MICROSOFT-CDO-ALLDAYEVENT:TRUE
SUMMARY:No School/School Break
DESCRIPTION:There is no school for students on this day for the Issaquah School District
X-ALT-DESC;FMTTYPE=text/html:There is no school for students on this day for the Issaquah School District
LOCATION:
UID:e.684.1400
SEQUENCE:3
DTSTAMP:20260425T125654Z
URL:https://business.issaquahchamber.com/events/details/no-school-school-break-01-25-2016-1400
END:VEVENT

END:VCALENDAR
