BEGIN:VCALENDAR
VERSION:2.0
PRODID:-//ChamberMaster//Event Calendar 2.0//EN
METHOD:PUBLISH
X-PUBLISHED-TTL:P3D
REFRESH-INTERVAL:P3D
CALSCALE:GREGORIAN
BEGIN:VEVENT
DTSTART:20170512T210000Z
DTEND:20170514T000000Z
X-MICROSOFT-CDO-ALLDAYEVENT:FALSE
SUMMARY:NW Paddling Festival
DESCRIPTION:The largest event of its kind in the Pacific Northwest\, the festival brings paddle sports retailers\, manufacturers and athletes together in one location!\n\nFeaturing more than 60 paddle sports businesses offering canoes\, kayaks\, stand-up paddleboards\, paddling equipment\, accessories and gear\, the Northwest Paddling   Festival is a can't-miss event for any paddling enthusiast.\n\nShop\, compare and browse the best in paddle sports brands side-by-side\, enjoy a guided kayak tour around the lake\, learn a new skill at a seminar\, and more!\n\nAttendance is free to the public. If you'd like to demo canoes\, kayaks and SUPs at the event from the beach\, there is a nominal $7 demo fee for the day.\n\nRemember your Discover Pass!
X-ALT-DESC;FMTTYPE=text/html:<p>The&nbsp\;largest event of its kind in the Pacific Northwest\, the festival brings paddle sports retailers\, manufacturers and athletes together in one location!</p>\n\n<p>Featuring more than 60 paddle sports businesses offering canoes\, kayaks\, stand-up paddleboards\, paddling equipment\, accessories and gear\, the Northwest Paddling &nbsp\; Festival is a can&rsquo\;t-miss event for any paddling enthusiast.</p>\n\n<p>Shop\, compare and browse the best in paddle sports brands side-by-side\, enjoy a guided kayak&nbsp\;tour&nbsp\;around the lake\,&nbsp\;learn a new skill at a seminar\, and more!</p>\n\n<p>Attendance is free to the public. If you&rsquo\;d like to demo canoes\, kayaks and SUPs at the event from the beach\, there is a nominal $7 demo fee for the day.</p>\n\n<p>Remember your Discover Pass!</p>\n
LOCATION:Lake Sammamish State Park 2000 NW Sammamish Rd Issaquah WA 98027
UID:e.684.3575
SEQUENCE:3
DTSTAMP:20260424T160801Z
URL:https://business.issaquahchamber.com/events/details/nw-paddling-festival-3575
END:VEVENT

END:VCALENDAR
