BEGIN:VCALENDAR
VERSION:2.0
PRODID:-//ChamberMaster//Event Calendar 2.0//EN
METHOD:PUBLISH
X-PUBLISHED-TTL:P3D
REFRESH-INTERVAL:P3D
CALSCALE:GREGORIAN
BEGIN:VEVENT
DTSTART:20160319T170000Z
DTEND:20160319T190000Z
X-MICROSOFT-CDO-ALLDAYEVENT:FALSE
SUMMARY:Olde Town Mine Hike
DESCRIPTION:Did you know that downtown Issaquah used to be the site of massive coal mines? Sign up for our Olde Town Mine History Hike! Join IHM history hike leader\, Doug Bristol\, in exploring the mining history that continues to shape downtown Issaquah. Get a new perspective on the Olde Town neighborhood through historic photos\, maps\, and observation of the changing landscape.
X-ALT-DESC;FMTTYPE=text/html:<span style="color: rgb(102\, 102\, 102)\; font-family: 'Open Sans'\, HelveticaNeue\, 'Helvetica Neue'\, Helvetica\, Arial\, sans-serif\; line-height: 22.1000003814697px\;">Did you know that downtown Issaquah used to be the site of massive coal mines? Sign up for our Olde Town Mine History Hike! Join IHM history hike leader\, Doug Bristol\, in exploring the mining history that continues to shape downtown Issaquah. Get a new perspective on the Olde Town neighborhood through historic photos\, maps\, and observation of the changing landscape.</span>
LOCATION:Issaquah Depot Museum\, 78 First Avenue NE
UID:e.684.1919
SEQUENCE:3
DTSTAMP:20260425T112654Z
URL:https://business.issaquahchamber.com/events/details/olde-town-mine-hike-03-19-2016-1919
END:VEVENT

END:VCALENDAR
