BEGIN:VCALENDAR
VERSION:2.0
PRODID:-//ChamberMaster//Event Calendar 2.0//EN
METHOD:PUBLISH
X-PUBLISHED-TTL:P3D
REFRESH-INTERVAL:P3D
CALSCALE:GREGORIAN
BEGIN:VEVENT
DTSTART:20151203T030000Z
DTEND:20151203T043000Z
X-MICROSOFT-CDO-ALLDAYEVENT:FALSE
SUMMARY:Opening Reception and Art Show by artEAST
DESCRIPTION:Join us for a juried exhibition of work by artEAST members. Leaving the subject matter wide open meant we were able to attract a broad range of material from some of our best established and emerging artists. The show is up from November 19 through January 15.
X-ALT-DESC;FMTTYPE=text/html:<span style="color: rgb(20\, 24\, 35)\; font-family: helvetica\, arial\, sans-serif\; font-size: 14px\; line-height: 18.760000228881836px\;">Join us for a juried exhibition of work by artEAST members. Leaving the subject matter wide open meant we were able to attract a broad range of material from some of our best established and emerging artists. The show is up from November 19 through January 15.</span>
LOCATION:Blakely Hall At Issaquah Highlands 2550 NE Park Dr Issaquah\, WA 98029
UID:e.684.1422
SEQUENCE:3
DTSTAMP:20260425T141838Z
URL:https://business.issaquahchamber.com/events/details/opening-reception-and-art-show-by-arteast-12-02-2015-1422
END:VEVENT

END:VCALENDAR
