BEGIN:VCALENDAR
VERSION:2.0
PRODID:-//ChamberMaster//Event Calendar 2.0//EN
METHOD:PUBLISH
X-PUBLISHED-TTL:P3D
REFRESH-INTERVAL:P3D
CALSCALE:GREGORIAN
BEGIN:VEVENT
DTSTART:20180624T010000Z
DTEND:20180624T030000Z
X-MICROSOFT-CDO-ALLDAYEVENT:FALSE
SUMMARY:Opening Reception & Studio Tour: A Year of Roses
DESCRIPTION:Join ArtEast in celebrating the opening of "A Year of Roses: An Accidental Spiritual Pilgrimage"\, by local artist Carrie Schmitt.\n\n\n\nPieces are inspired by her experiences as she listened to an inner voice telling her to "follow the roses"\, as she gave a rose to a stranger\, every day for a year.\n\n\n\nTake a tour of Carrie's mobile studio- a converted and painted short bus named Rosie.
X-ALT-DESC;FMTTYPE=text/html:<span style="color: rgb(29\, 33\, 41)\; font-family: Helvetica\, Arial\, sans-serif\; font-size: 14px\; background-color: rgb(255\, 255\, 255)\;">Join ArtEast in celebrating the opening of &quot\;A Year of Roses: An Accidental Spiritual Pilgrimage&quot\;\, by local artist Carrie Schmitt.</span><br />\n<br style="color: rgb(29\, 33\, 41)\; font-family: Helvetica\, Arial\, sans-serif\; font-size: 14px\; background-color: rgb(255\, 255\, 255)\;" />\n<span style="color: rgb(29\, 33\, 41)\; font-family: Helvetica\, Arial\, sans-serif\; font-size: 14px\; background-color: rgb(255\, 255\, 255)\;">Pieces are inspired by her experiences as she listened to an inner voice telling her to &quot\;follow the roses&quot\;\, as she gave a rose to a stranger\, every day for a year.</span><br />\n<br style="color: rgb(29\, 33\, 41)\; font-family: Helvetica\, Arial\, sans-serif\; font-size: 14px\; background-color: rgb(255\, 255\, 255)\;" />\n<span style="color: rgb(29\, 33\, 41)\; font-family: Helvetica\, Arial\, sans-serif\; font-size: 14px\; background-color: rgb(255\, 255\, 255)\;">Take a tour of Carrie&#39\;s mobile studio- a converted and painted short bus named Rosie.</span>
LOCATION:ArtEast 95 Front St N\, Issaquah\, WA 98027
UID:e.684.5401
SEQUENCE:3
DTSTAMP:20260423T233640Z
URL:https://business.issaquahchamber.com/events/details/opening-reception-studio-tour-a-year-of-roses-5401
END:VEVENT

END:VCALENDAR
