BEGIN:VCALENDAR
VERSION:2.0
PRODID:-//ChamberMaster//Event Calendar 2.0//EN
METHOD:PUBLISH
X-PUBLISHED-TTL:P3D
REFRESH-INTERVAL:P3D
CALSCALE:GREGORIAN
BEGIN:VEVENT
DTSTART;VALUE=DATE:20160117
DTEND;VALUE=DATE:20160119
TRANSP:TRANSPARENT
X-MICROSOFT-CDO-ALLDAYEVENT:TRUE
SUMMARY:Park Free Day
DESCRIPTION:Visit Washington State Parks Today without having to use/purchase a Discover Pass!
X-ALT-DESC;FMTTYPE=text/html:Visit Washington State Parks Today without having to use/purchase a Discover Pass!
LOCATION:
UID:e.684.1389
SEQUENCE:3
DTSTAMP:20260425T141007Z
URL:https://business.issaquahchamber.com/events/details/park-free-day-01-17-2016-1389
END:VEVENT

END:VCALENDAR
