BEGIN:VCALENDAR
VERSION:2.0
PRODID:-//ChamberMaster//Event Calendar 2.0//EN
METHOD:PUBLISH
X-PUBLISHED-TTL:P3D
REFRESH-INTERVAL:P3D
CALSCALE:GREGORIAN
BEGIN:VEVENT
DTSTART;VALUE=DATE:20151127
DTEND;VALUE=DATE:20151128
TRANSP:TRANSPARENT
X-MICROSOFT-CDO-ALLDAYEVENT:TRUE
SUMMARY:Photos with Santa!
DESCRIPTION:Drop by to visit Santa\, all through the holiday season\, at his little cabin! Enjoy professional photography services by Arthur & Associates.
X-ALT-DESC;FMTTYPE=text/html:Drop by to visit Santa\, all through the holiday season\, at his little cabin! Enjoy professional photography services by Arthur &amp\; Associates.
LOCATION:The little cabin next to Regal Cinemas in the Issaquah Highlands.
UID:e.684.1408
SEQUENCE:3
DTSTAMP:20260425T153443Z
URL:https://business.issaquahchamber.com/events/details/photos-with-santa-11-27-2015-1408
END:VEVENT

END:VCALENDAR
